BEGIN:VCALENDAR
VERSION:2.0
PRODID:-//Mateřská škola Sluníčko - ECPv6.15.11//NONSGML v1.0//EN
CALSCALE:GREGORIAN
METHOD:PUBLISH
X-WR-CALNAME:Mateřská škola Sluníčko
X-ORIGINAL-URL:https://slunicko.novybydzov.cz
X-WR-CALDESC:Akce na Mateřská škola Sluníčko
REFRESH-INTERVAL;VALUE=DURATION:PT1H
X-Robots-Tag:noindex
X-PUBLISHED-TTL:PT1H
BEGIN:VTIMEZONE
TZID:Europe/Prague
BEGIN:DAYLIGHT
TZOFFSETFROM:+0100
TZOFFSETTO:+0200
TZNAME:CEST
DTSTART:20250330T010000
END:DAYLIGHT
BEGIN:STANDARD
TZOFFSETFROM:+0200
TZOFFSETTO:+0100
TZNAME:CET
DTSTART:20251026T010000
END:STANDARD
BEGIN:DAYLIGHT
TZOFFSETFROM:+0100
TZOFFSETTO:+0200
TZNAME:CEST
DTSTART:20260329T010000
END:DAYLIGHT
BEGIN:STANDARD
TZOFFSETFROM:+0200
TZOFFSETTO:+0100
TZNAME:CET
DTSTART:20261025T010000
END:STANDARD
BEGIN:DAYLIGHT
TZOFFSETFROM:+0100
TZOFFSETTO:+0200
TZNAME:CEST
DTSTART:20270328T010000
END:DAYLIGHT
BEGIN:STANDARD
TZOFFSETFROM:+0200
TZOFFSETTO:+0100
TZNAME:CET
DTSTART:20271031T010000
END:STANDARD
END:VTIMEZONE
BEGIN:VEVENT
DTSTART;TZID=Europe/Prague:20260421T080000
DTEND;TZID=Europe/Prague:20260421T110000
DTSTAMP:20260424T044923
CREATED:20251105T113213Z
LAST-MODIFIED:20260206T082352Z
UID:21278-1776758400-1776769200@slunicko.novybydzov.cz
SUMMARY:👁️ Vyšetření zraku – Prima Vizus
DESCRIPTION:Preventivního vyšetření zraku dětí v mateřských školách\, který odhaluje oční vady pomocí bezkontaktní kamery.
URL:https://slunicko.novybydzov.cz/akce/prima-vizus/
END:VEVENT
END:VCALENDAR